BEGIN:VCALENDAR
VERSION:2.0
PRODID:-//Raindrops - ECPv6.15.16.1//NONSGML v1.0//EN
CALSCALE:GREGORIAN
METHOD:PUBLISH
X-WR-CALNAME:Raindrops
X-ORIGINAL-URL:http://raindropstokyo.com
X-WR-CALDESC:Events for Raindrops
REFRESH-INTERVAL;VALUE=DURATION:PT1H
X-Robots-Tag:noindex
X-PUBLISHED-TTL:PT1H
BEGIN:VTIMEZONE
TZID:Asia/Tokyo
BEGIN:STANDARD
TZOFFSETFROM:+0900
TZOFFSETTO:+0900
TZNAME:JST
DTSTART:20250101T000000
END:STANDARD
END:VTIMEZONE
BEGIN:VEVENT
DTSTART;VALUE=DATE:20260429
DTEND;VALUE=DATE:20260430
DTSTAMP:20260425T012132
CREATED:20250331T060452Z
LAST-MODIFIED:20260407T115804Z
UID:1318-1777420800-1777507199@raindropstokyo.com
SUMMARY:Constitution Memorial Day
DESCRIPTION:
URL:http://raindropstokyo.com/event/constitution-memorial-day
END:VEVENT
BEGIN:VEVENT
DTSTART;VALUE=DATE:20260504
DTEND;VALUE=DATE:20260507
DTSTAMP:20260425T012132
CREATED:20250331T064415Z
LAST-MODIFIED:20260407T120136Z
UID:1346-1777852800-1778111999@raindropstokyo.com
SUMMARY:Golden week
DESCRIPTION:
URL:http://raindropstokyo.com/event/childrens-day
END:VEVENT
BEGIN:VEVENT
DTSTART;VALUE=DATE:20260711
DTEND;VALUE=DATE:20260824
DTSTAMP:20260425T012132
CREATED:20250331T062212Z
LAST-MODIFIED:20260407T120255Z
UID:1322-1783728000-1787529599@raindropstokyo.com
SUMMARY:Summer break
DESCRIPTION:
URL:http://raindropstokyo.com/event/summer-break
END:VEVENT
BEGIN:VEVENT
DTSTART;VALUE=DATE:20260919
DTEND;VALUE=DATE:20260924
DTSTAMP:20260425T012132
CREATED:20250331T062805Z
LAST-MODIFIED:20260407T120505Z
UID:1324-1789776000-1790207999@raindropstokyo.com
SUMMARY:Silver week
DESCRIPTION:
URL:http://raindropstokyo.com/event/respect-for-the-aged
END:VEVENT
BEGIN:VEVENT
DTSTART;VALUE=DATE:20261012
DTEND;VALUE=DATE:20261013
DTSTAMP:20260425T012132
CREATED:20250331T063241Z
LAST-MODIFIED:20260407T122109Z
UID:1328-1791763200-1791849599@raindropstokyo.com
SUMMARY:Sports Day
DESCRIPTION:
URL:http://raindropstokyo.com/event/sports-day
END:VEVENT
BEGIN:VEVENT
DTSTART;VALUE=DATE:20261103
DTEND;VALUE=DATE:20261104
DTSTAMP:20260425T012132
CREATED:20250331T063312Z
LAST-MODIFIED:20260407T122155Z
UID:1330-1793664000-1793750399@raindropstokyo.com
SUMMARY:Culture Day
DESCRIPTION:
URL:http://raindropstokyo.com/event/culture-day
END:VEVENT
BEGIN:VEVENT
DTSTART;VALUE=DATE:20261123
DTEND;VALUE=DATE:20261124
DTSTAMP:20260425T012132
CREATED:20250331T063346Z
LAST-MODIFIED:20260407T122236Z
UID:1332-1795392000-1795478399@raindropstokyo.com
SUMMARY:Labour Thanksgiving Day
DESCRIPTION:
URL:http://raindropstokyo.com/event/labour-thanksgiving-day
END:VEVENT
BEGIN:VEVENT
DTSTART;VALUE=DATE:20261219
DTEND;VALUE=DATE:20270104
DTSTAMP:20260425T012132
CREATED:20250331T063441Z
LAST-MODIFIED:20260407T122342Z
UID:1334-1797638400-1799020799@raindropstokyo.com
SUMMARY:Winter Break
DESCRIPTION:
URL:http://raindropstokyo.com/event/winter-break
END:VEVENT
BEGIN:VEVENT
DTSTART;VALUE=DATE:20270111
DTEND;VALUE=DATE:20270112
DTSTAMP:20260425T012132
CREATED:20250331T063515Z
LAST-MODIFIED:20260407T122425Z
UID:1336-1799625600-1799711999@raindropstokyo.com
SUMMARY:Coming of Age Day
DESCRIPTION:
URL:http://raindropstokyo.com/event/coming-of-age-day
END:VEVENT
BEGIN:VEVENT
DTSTART;VALUE=DATE:20270211
DTEND;VALUE=DATE:20270212
DTSTAMP:20260425T012132
CREATED:20250331T063547Z
LAST-MODIFIED:20260407T122520Z
UID:1338-1802304000-1802390399@raindropstokyo.com
SUMMARY:National Foundation Day
DESCRIPTION:
URL:http://raindropstokyo.com/event/national-foundation-day
END:VEVENT
BEGIN:VEVENT
DTSTART;VALUE=DATE:20270223
DTEND;VALUE=DATE:20270224
DTSTAMP:20260425T012132
CREATED:20250331T064125Z
LAST-MODIFIED:20260407T122605Z
UID:1342-1803340800-1803427199@raindropstokyo.com
SUMMARY:The emperor’s birthday
DESCRIPTION:
URL:http://raindropstokyo.com/event/the-emperors-birthday
END:VEVENT
BEGIN:VEVENT
DTSTART;VALUE=DATE:20270320
DTEND;VALUE=DATE:20270405
DTSTAMP:20260425T012132
CREATED:20250331T061922Z
LAST-MODIFIED:20260407T122725Z
UID:1320-1805500800-1806883199@raindropstokyo.com
SUMMARY:Spring Break
DESCRIPTION:
URL:http://raindropstokyo.com/event/spring-break-2026
END:VEVENT
END:VCALENDAR